BEGIN:VCALENDAR
VERSION:2.0
PRODID:-//Ziber2013/
CALSCALE:GREGORIAN
BEGIN:VEVENT
UID:258213@https://www.markt18.nl
DTSTART:20260502T201500
DTEND:20260502T213000
SUMMARY:Margje Wittermans Waarom Truus
DESCRIPTION:<p><b>[url|https://tickets.scagondeluxe.nl/nl-NL/Show/Details/Margje-Wittermans-Waarom-Truus-2-mei-1461|Tickets: zaterdagavond 20:15u|int]\n____________________________________________________________________________________________________</b></p><p><i>Margje Wittermans eert met Waarom Truus de heldhaftige verzetsvrouw en redder van duizenden kinderen tijdens de Tweede Wereldoorlog</i></p><p> </p><p>De kinderloze Geertruida (Truus) Wijsmuller-Meijer\, begaan met het sociale lot van anderen\, ontpopt zich na 1932 als de nazis aan de macht komen tot helper van duizenden Joodse kindvluchtelingen. Vanuit Londen wordt ze op een missie gestuurd om in Wenen met Adolf Eichmann te onderhandelen over gedwongen emigratie van Weense Joden. Uiteindelijk mag zij\, tijdens de shabbat\, een konvooi kinderen meenemen. Ze organiseert en regelt dan een treintransport op 10 december 1938 met 600 Joodse kinderen naar Hoek van Holland. 500 van hen reizen er per schip door naar Engeland\, zoals afgesproken met de Engelse regering. De overigen worden in Nederland opgevangen.</p><p>De fascinatie van Margje Wittermans voor deze Truus Wijsmuller als 'reddende engel’\, wier kracht en heldhaftig verzet lang onbelicht is gebleven\, ligt aan de basis van deze toneelproductie. Samen met Janos Koolen die tekent voor de muziek en in regie van Bruun Kuijt wordt de slagkracht en het doorzettingsvermogen getoond tegen een verschrikkelijk onrecht. Met persoonlijke inzet als het gaat om leven en dood. Een muziektheaterproductie waarin een bijzondere artistieke invulling wordt gegeven aan het uiterst actuele antwoord op de vraag: ’En wat zou jij doen?’</p><p> </p><p>Spel en zang: Margje Wittermans</p><p>Muziek: Janos Koolen /  Izak Boom</p><p>Foto: Reinout Bos</p><p>Regie: Bruun Kuijt</p><p>\nEntree: € 17\,50 - jongeren t/m 18 jaar € 10\,00  </p>
LOCATION:Scagon De Luxe Theater & Filmhuis\, Torenstraat 1B\, 1741 CB Schagen
ATTACH;FMTTYPE=image/jpeg:/content/32126/agenda/clnt/d23a43f71acf48099d94c41130d4dda0.jpg?width=1600&height=1200
SEQUENCE:0
DTSTAMP:20260424T161953
END:VEVENT
END:VCALENDAR
