BEGIN:VCALENDAR
VERSION:2.0
PRODID:-//Ziber2013/
CALSCALE:GREGORIAN
BEGIN:VEVENT
UID:258201@https://www.markt18.nl
DTSTART:20260501T140000
DTEND:20260501T155800
SUMMARY:Dreams (uitgekozen door Jong Programmeurs)
DESCRIPTION:<p><b>[url|https://tickets.scagondeluxe.nl/nl-NL/Show/Details/Dreams-1-mei-1460 |Tickets:vrijdagmiddag 14:00u|int]</b></p><p><b>_______________________________________________________________________________</b></p><p>2025\, VS\, Mexico\, Michel Franco</p><p>In de overtuiging dat zijn geliefde hem zal steunen\, steekt een jonge Mexicaanse balletdanser illegaal de grens over om zijn dromen na te jagen in San Francisco. Maar terwijl ambitie en liefde botsen met de harde realiteit\, moet hij de ware aard van hun relatie onder ogen zien.</p><p>Cast: Jessica Chastain\, Isaac Hernández\, Rupert Friend\, Marshall Bell\, Eligio Meléndez\, Mercedes Hernández</p><p>Entree: €10\,00</p>
LOCATION:Scagon De Luxe Theater & Filmhuis\, Torenstraat 1B\, 1741 CB Schagen
ATTACH;FMTTYPE=image/jpeg:/content/32126/agenda/clnt/258201_org.jpg?width=1600&height=1200
SEQUENCE:0
DTSTAMP:20260420T051810
END:VEVENT
END:VCALENDAR
