BEGIN:VCALENDAR
VERSION:2.0
PRODID:-//Ziber2013/
CALSCALE:GREGORIAN
BEGIN:VEVENT
UID:258194@https://www.markt18.nl
DTSTART:20260501T200000
DTEND:20260501T221800
SUMMARY: The History of Sound
DESCRIPTION:<p><b>[url|https://tickets.scagondeluxe.nl/nl-NL/Show/Details/The-History-of-Sound-1-mei-1458 |Tickets: vrijdagavond 20:00u|int]</b></p><p><b>_______________________________________________________________________________</b></p><p>2025\, VS\, Verenigd Koninkrijk\, Oliver Hermanus</p><p>In 1917 leert de jonge\, getalenteerde muziekstudent Lionel zijn medestudent David kennen aan het conservatorium van Boston\, waar tussen hen een sterke band ontstaat vanwege hun grote liefde voor volksmuziek. Als Lionel jaren later een brief van David krijgt\, leidt dat tot een geïmproviseerde reis door de wildernis van Maine om volksliedjes te verzamelen. Hun onverwachte hereniging\, de daaropvolgende liefdesaffaire en de muziek die ze verzamelen en vastleggen\, zullen een bepalende invloed hebben op de loop van Lionels leven.</p><p>Cast: Paul Mescal\, Josh O'Connor\, Molly Price</p><p>Entree: €10\,00</p>
LOCATION:Scagon De Luxe Theater & Filmhuis\, Torenstraat 1B\, 1741 CB Schagen
ATTACH;FMTTYPE=image/jpeg:/content/32126/agenda/clnt/258194_org.jpg?width=1600&height=1200
SEQUENCE:0
DTSTAMP:20260420T051154
END:VEVENT
END:VCALENDAR
