BEGIN:VCALENDAR
VERSION:2.0
PRODID:-//Ziber2013/
CALSCALE:GREGORIAN
BEGIN:VEVENT
UID:254866@https://www.markt18.nl
DTSTART:20260503T110000
DTEND:20260503T114500
SUMMARY:Theater Krijt Ja! Nee! Olé!
DESCRIPTION:<p><b>[url|https://tickets.scagondeluxe.nl/nl-NL/Show/Details/Theater-Krijt-Ja-Nee-Ol--3-mei-1402|Tickets: zondagochtend 11:00u|int]\n____________________________________________________________________________________________________</b></p><p><i>Kleutervoorstelling ’Ja! Nee! OLÉ!’ door Theater Krijt: Helder\, toegankelijk beeldend en dichtbij</i></p><p>                                                     Ergens... in een klein grijs huisje\,\n                                                     klinkt een JA! en dan een NEE!\n                                                     Mevrouw zou graag eens dansen\,\n                                                     samen met z'n twee\, Olé!\n                                                     Maar meneer wil rustig lezen\, \n                                                     Dus hij doet niet mee...</p><p>’Ja! Nee! OLÉ!’  is een beeldende kleutervoorstelling over de zoektocht van twee mensen die heel verschillend zijn\, maar ook veel van elkaar houden. Wordt het ja of nee? Of toch een beetje van allebei?  \nEen aanrader voor jonge kinderen en ouders die houden van een mix van lachen\, ontroering en creatieve theatervormen.</p><p>\nConcept & spel: Collin van den Broek\,\n                           Annelies Fleskens</p><p>Regie & vormgeving: Cristel Hakvoort</p><p> </p><p>Entree: € 11\,50</p>
LOCATION:Scagon De Luxe Theater & Filmhuis\, Torenstraat 1B\, 1741 CB Schagen
ATTACH;FMTTYPE=image/jpeg:/content/32126/agenda/clnt/07d12214daae493ea1036ef0863d985d.jpg?width=1600&height=1200
SEQUENCE:0
DTSTAMP:20260424T160921
END:VEVENT
END:VCALENDAR
